BEGIN:VCALENDAR
VERSION:2.0
PRODID:-//GAC - ECPv6.2.9//NONSGML v1.0//EN
CALSCALE:GREGORIAN
METHOD:PUBLISH
X-WR-CALNAME:GAC
X-ORIGINAL-URL:https://gac.network
X-WR-CALDESC:Events for GAC
REFRESH-INTERVAL;VALUE=DURATION:PT1H
X-Robots-Tag:noindex
X-PUBLISHED-TTL:PT1H
BEGIN:VTIMEZONE
TZID:UTC
BEGIN:STANDARD
TZOFFSETFROM:+0000
TZOFFSETTO:+0000
TZNAME:UTC
DTSTART:20240101T000000
END:STANDARD
END:VTIMEZONE
BEGIN:VEVENT
DTSTART;TZID=UTC:20240328T080000
DTEND;TZID=UTC:20240328T170000
DTSTAMP:20260422T223946
CREATED:20240106T195910Z
LAST-MODIFIED:20240106T195910Z
UID:409-1711612800-1711645200@gac.network
SUMMARY:Safety Seminar
DESCRIPTION:Sessions led by experts discussing safety protocols\, best practices\, and insights into aviation safety.
URL:https://gac.network/event/safety-seminar/
ATTACH;FMTTYPE=image/webp:https://gac.network/wp-content/uploads/2024/01/eventimg3-scaled.webp
END:VEVENT
END:VCALENDAR